BEGIN:VCALENDAR
VERSION:2.0
PRODID:-//Radcliffe Court Townhomes - ECPv6.15.20//NONSGML v1.0//EN
CALSCALE:GREGORIAN
METHOD:PUBLISH
X-WR-CALNAME:Radcliffe Court Townhomes
X-ORIGINAL-URL:https://radcliffecourttownhomes.com
X-WR-CALDESC:Events for Radcliffe Court Townhomes
REFRESH-INTERVAL;VALUE=DURATION:PT1H
X-Robots-Tag:noindex
X-PUBLISHED-TTL:PT1H
BEGIN:VTIMEZONE
TZID:UTC
BEGIN:STANDARD
TZOFFSETFROM:+0000
TZOFFSETTO:+0000
TZNAME:UTC
DTSTART:20240101T000000
END:STANDARD
END:VTIMEZONE
BEGIN:VEVENT
DTSTART;TZID=UTC:20250416T180000
DTEND;TZID=UTC:20250416T190000
DTSTAMP:20260421T092939
CREATED:20241022T235752Z
LAST-MODIFIED:20241118T233020Z
UID:1299-1744826400-1744830000@radcliffecourttownhomes.com
SUMMARY:Second Quarter Meeting (Annual Meeting)
DESCRIPTION:
URL:https://radcliffecourttownhomes.com/event/second-quarter-meeting/
LOCATION:PA
CATEGORIES:meeting
END:VEVENT
END:VCALENDAR